BEGIN:VCALENDAR
VERSION:2.0
PRODID:-//North Central West Virginia Home Builders Association - ECPv6.15.20//NONSGML v1.0//EN
CALSCALE:GREGORIAN
METHOD:PUBLISH
X-ORIGINAL-URL:https://www.ncwvhba.org
X-WR-CALDESC:Events for North Central West Virginia Home Builders Association
REFRESH-INTERVAL;VALUE=DURATION:PT1H
X-Robots-Tag:noindex
X-PUBLISHED-TTL:PT1H
BEGIN:VTIMEZONE
TZID:America/New_York
BEGIN:DAYLIGHT
TZOFFSETFROM:-0500
TZOFFSETTO:-0400
TZNAME:EDT
DTSTART:20210314T070000
END:DAYLIGHT
BEGIN:STANDARD
TZOFFSETFROM:-0400
TZOFFSETTO:-0500
TZNAME:EST
DTSTART:20211107T060000
END:STANDARD
BEGIN:DAYLIGHT
TZOFFSETFROM:-0500
TZOFFSETTO:-0400
TZNAME:EDT
DTSTART:20220313T070000
END:DAYLIGHT
BEGIN:STANDARD
TZOFFSETFROM:-0400
TZOFFSETTO:-0500
TZNAME:EST
DTSTART:20221106T060000
END:STANDARD
BEGIN:DAYLIGHT
TZOFFSETFROM:-0500
TZOFFSETTO:-0400
TZNAME:EDT
DTSTART:20230312T070000
END:DAYLIGHT
BEGIN:STANDARD
TZOFFSETFROM:-0400
TZOFFSETTO:-0500
TZNAME:EST
DTSTART:20231105T060000
END:STANDARD
BEGIN:DAYLIGHT
TZOFFSETFROM:-0500
TZOFFSETTO:-0400
TZNAME:EDT
DTSTART:20240310T070000
END:DAYLIGHT
BEGIN:STANDARD
TZOFFSETFROM:-0400
TZOFFSETTO:-0500
TZNAME:EST
DTSTART:20241103T060000
END:STANDARD
BEGIN:DAYLIGHT
TZOFFSETFROM:-0500
TZOFFSETTO:-0400
TZNAME:EDT
DTSTART:20250309T070000
END:DAYLIGHT
BEGIN:STANDARD
TZOFFSETFROM:-0400
TZOFFSETTO:-0500
TZNAME:EST
DTSTART:20251102T060000
END:STANDARD
BEGIN:DAYLIGHT
TZOFFSETFROM:-0500
TZOFFSETTO:-0400
TZNAME:EDT
DTSTART:20260308T070000
END:DAYLIGHT
BEGIN:STANDARD
TZOFFSETFROM:-0400
TZOFFSETTO:-0500
TZNAME:EST
DTSTART:20261101T060000
END:STANDARD
END:VTIMEZONE
BEGIN:VEVENT
DTSTART;TZID=America/New_York:20250320T173000
DTEND;TZID=America/New_York:20250320T203000
DTSTAMP:20260421T112935
CREATED:20250303T134120Z
LAST-MODIFIED:20250303T141738Z
UID:10000060-1742491800-1742502600@www.ncwvhba.org
SUMMARY:Monthly General Membership Event - March 2025
DESCRIPTION:Sponsor: LifeTite Metals \nMembers\, check your emails for RSVP information! \n 
URL:https://www.ncwvhba.org/event/monthly-general-membership-event-march-2025/
LOCATION:Muriale’s Italian Kitchen\, 1742 Fairmont Avenue\, Fairmont\, 26554
END:VEVENT
BEGIN:VEVENT
DTSTART;TZID=America/New_York:20250117T173000
DTEND;TZID=America/New_York:20250117T203000
DTSTAMP:20260421T112935
CREATED:20241028T153027Z
LAST-MODIFIED:20241028T153121Z
UID:10000059-1737135000-1737145800@www.ncwvhba.org
SUMMARY:Monthly General Membership Event - January 2025
DESCRIPTION:NEW YEAR\, NEW BOARD!! \nOur Member\, Don’s Appliances starting our year off with a BANG!! \nMembers\, check your emails for RSVP information! \n 
URL:https://www.ncwvhba.org/event/monthly-general-membership-event-january-2025/
LOCATION:Muriale’s Italian Kitchen\, 1742 Fairmont Avenue\, Fairmont\, 26554
END:VEVENT
BEGIN:VEVENT
DTSTART;TZID=America/New_York:20230615T173000
DTEND;TZID=America/New_York:20230615T200000
DTSTAMP:20260421T112935
CREATED:20230524T142610Z
LAST-MODIFIED:20230524T142610Z
UID:10000040-1686850200-1686859200@www.ncwvhba.org
SUMMARY:Monthly General Membership Meeting
DESCRIPTION:Members\, check your emails for RSVP information! \n 
URL:https://www.ncwvhba.org/event/monthly-general-membership-meeting-10/
LOCATION:Muriale’s Italian Kitchen\, 1742 Fairmont Avenue\, Fairmont\, 26554
END:VEVENT
BEGIN:VEVENT
DTSTART;TZID=America/New_York:20230119T173000
DTEND;TZID=America/New_York:20230119T200000
DTSTAMP:20260421T112935
CREATED:20230101T185752Z
LAST-MODIFIED:20230101T185752Z
UID:10000036-1674149400-1674158400@www.ncwvhba.org
SUMMARY:Monthly General Membership Meeting
DESCRIPTION:NEW YEAR\, NEW BOARD\, NEW IDEAS!! Members\, check your emails for RSVP information! \n 
URL:https://www.ncwvhba.org/event/monthly-general-membership-meeting-9/
LOCATION:Muriale’s Italian Kitchen\, 1742 Fairmont Avenue\, Fairmont\, 26554
END:VEVENT
BEGIN:VEVENT
DTSTART;TZID=America/New_York:20220617T180000
DTEND;TZID=America/New_York:20220617T210000
DTSTAMP:20260421T112935
CREATED:20220505T171623Z
LAST-MODIFIED:20220505T171623Z
UID:10000026-1655488800-1655499600@www.ncwvhba.org
SUMMARY:Monthly General Membership Meeting
DESCRIPTION:We’ll be at Muriale’s in Fairmont this month.  Members\, look for your RSVP email for details!
URL:https://www.ncwvhba.org/event/monthly-general-membership-meeting-7/
LOCATION:Muriale’s Italian Kitchen\, 1742 Fairmont Avenue\, Fairmont\, 26554
END:VEVENT
END:VCALENDAR