BEGIN:VCALENDAR
VERSION:2.0
PRODID:-//North Central West Virginia Home Builders Association - ECPv6.15.20//NONSGML v1.0//EN
CALSCALE:GREGORIAN
METHOD:PUBLISH
X-WR-CALNAME:North Central West Virginia Home Builders Association
X-ORIGINAL-URL:https://www.ncwvhba.org
X-WR-CALDESC:Events for North Central West Virginia Home Builders Association
REFRESH-INTERVAL;VALUE=DURATION:PT1H
X-Robots-Tag:noindex
X-PUBLISHED-TTL:PT1H
BEGIN:VTIMEZONE
TZID:America/New_York
BEGIN:DAYLIGHT
TZOFFSETFROM:-0500
TZOFFSETTO:-0400
TZNAME:EDT
DTSTART:20240310T070000
END:DAYLIGHT
BEGIN:STANDARD
TZOFFSETFROM:-0400
TZOFFSETTO:-0500
TZNAME:EST
DTSTART:20241103T060000
END:STANDARD
BEGIN:DAYLIGHT
TZOFFSETFROM:-0500
TZOFFSETTO:-0400
TZNAME:EDT
DTSTART:20250309T070000
END:DAYLIGHT
BEGIN:STANDARD
TZOFFSETFROM:-0400
TZOFFSETTO:-0500
TZNAME:EST
DTSTART:20251102T060000
END:STANDARD
BEGIN:DAYLIGHT
TZOFFSETFROM:-0500
TZOFFSETTO:-0400
TZNAME:EDT
DTSTART:20260308T070000
END:DAYLIGHT
BEGIN:STANDARD
TZOFFSETFROM:-0400
TZOFFSETTO:-0500
TZNAME:EST
DTSTART:20261101T060000
END:STANDARD
END:VTIMEZONE
BEGIN:VEVENT
DTSTART;TZID=America/New_York:20250417T173000
DTEND;TZID=America/New_York:20250417T203000
DTSTAMP:20260420T040336
CREATED:20250411T123121Z
LAST-MODIFIED:20250411T123121Z
UID:10000061-1744911000-1744921800@www.ncwvhba.org
SUMMARY:Monthly General Membership Event - April 2025
DESCRIPTION: 
URL:https://www.ncwvhba.org/event/monthly-general-membership-event-april-2025-2/
END:VEVENT
BEGIN:VEVENT
DTSTART;TZID=America/New_York:20250429T070000
DTEND;TZID=America/New_York:20250429T083000
DTSTAMP:20260420T040336
CREATED:20250422T190116Z
LAST-MODIFIED:20250422T190116Z
UID:10000063-1745910000-1745915400@www.ncwvhba.org
SUMMARY:Caffeinate & Activate: Discovering you NAHB online portal
DESCRIPTION:For HBA Members\, RSVP to info@ncwvhba.org
URL:https://www.ncwvhba.org/event/caffeinate-activate-discovering-you-nahb-online-portal/
LOCATION:NCWVHBA\, 2050 City View Drive\, Morgantown\, WV\, 26501\, United States
END:VEVENT
END:VCALENDAR