BEGIN:VCALENDAR
VERSION:2.0
PRODID:-//North Central West Virginia Home Builders Association - ECPv6.15.20//NONSGML v1.0//EN
CALSCALE:GREGORIAN
METHOD:PUBLISH
X-WR-CALNAME:North Central West Virginia Home Builders Association
X-ORIGINAL-URL:https://www.ncwvhba.org
X-WR-CALDESC:Events for North Central West Virginia Home Builders Association
REFRESH-INTERVAL;VALUE=DURATION:PT1H
X-Robots-Tag:noindex
X-PUBLISHED-TTL:PT1H
BEGIN:VTIMEZONE
TZID:America/New_York
BEGIN:DAYLIGHT
TZOFFSETFROM:-0500
TZOFFSETTO:-0400
TZNAME:EDT
DTSTART:20190310T070000
END:DAYLIGHT
BEGIN:STANDARD
TZOFFSETFROM:-0400
TZOFFSETTO:-0500
TZNAME:EST
DTSTART:20191103T060000
END:STANDARD
BEGIN:DAYLIGHT
TZOFFSETFROM:-0500
TZOFFSETTO:-0400
TZNAME:EDT
DTSTART:20200308T070000
END:DAYLIGHT
BEGIN:STANDARD
TZOFFSETFROM:-0400
TZOFFSETTO:-0500
TZNAME:EST
DTSTART:20201101T060000
END:STANDARD
BEGIN:DAYLIGHT
TZOFFSETFROM:-0500
TZOFFSETTO:-0400
TZNAME:EDT
DTSTART:20210314T070000
END:DAYLIGHT
BEGIN:STANDARD
TZOFFSETFROM:-0400
TZOFFSETTO:-0500
TZNAME:EST
DTSTART:20211107T060000
END:STANDARD
BEGIN:DAYLIGHT
TZOFFSETFROM:-0500
TZOFFSETTO:-0400
TZNAME:EDT
DTSTART:20220313T070000
END:DAYLIGHT
BEGIN:STANDARD
TZOFFSETFROM:-0400
TZOFFSETTO:-0500
TZNAME:EST
DTSTART:20221106T060000
END:STANDARD
BEGIN:DAYLIGHT
TZOFFSETFROM:-0500
TZOFFSETTO:-0400
TZNAME:EDT
DTSTART:20230312T070000
END:DAYLIGHT
BEGIN:STANDARD
TZOFFSETFROM:-0400
TZOFFSETTO:-0500
TZNAME:EST
DTSTART:20231105T060000
END:STANDARD
END:VTIMEZONE
BEGIN:VEVENT
DTSTART;TZID=America/New_York:20220617T180000
DTEND;TZID=America/New_York:20220617T210000
DTSTAMP:20260419T124133
CREATED:20220505T171623Z
LAST-MODIFIED:20220505T171623Z
UID:10000026-1655488800-1655499600@www.ncwvhba.org
SUMMARY:Monthly General Membership Meeting
DESCRIPTION:We’ll be at Muriale’s in Fairmont this month.  Members\, look for your RSVP email for details!
URL:https://www.ncwvhba.org/event/monthly-general-membership-meeting-7/
LOCATION:Muriale’s Italian Kitchen\, 1742 Fairmont Avenue\, Fairmont\, 26554
END:VEVENT
BEGIN:VEVENT
DTSTART;VALUE=DATE:20220611
DTEND;VALUE=DATE:20220612
DTSTAMP:20260419T124133
CREATED:20220323T171220Z
LAST-MODIFIED:20220323T171220Z
UID:10000025-1654905600-1654991999@www.ncwvhba.org
SUMMARY:HBAWV Annual Auction
DESCRIPTION:
URL:https://www.ncwvhba.org/event/hbawv-annual-auction/
LOCATION:Mylan\, 500 Mylan Park Ln\, Monongalia\, WV\, 26501\, United States
ORGANIZER;CN="HBAWV":MAILTO:rskeen@hbawv.org
END:VEVENT
BEGIN:VEVENT
DTSTART;TZID=America/New_York:20220519T180000
DTEND;TZID=America/New_York:20220519T200000
DTSTAMP:20260419T124133
CREATED:20220323T170453Z
LAST-MODIFIED:20220505T171239Z
UID:10000024-1652983200-1652990400@www.ncwvhba.org
SUMMARY:Monthly General Membership Meeting
DESCRIPTION:The NEW Phoenix Public House at the Pines Country Club!!! And the Better Business Bureau will be joining us.  Members\, see your RSVP emails for details!
URL:https://www.ncwvhba.org/event/monthly-general-membership-meeting-6/
LOCATION:The Pines Country Club\, 3062 Point Marion Rd\, Morgantown\, WV\, 26505\, United States
END:VEVENT
BEGIN:VEVENT
DTSTART;TZID=America/New_York:20220421T180000
DTEND;TZID=America/New_York:20220421T210000
DTSTAMP:20260419T124133
CREATED:20220323T162559Z
LAST-MODIFIED:20220323T162559Z
UID:10000022-1650564000-1650574800@www.ncwvhba.org
SUMMARY:Monthly General Membership Meeting
DESCRIPTION:Spring into Spring\, and join us!!
URL:https://www.ncwvhba.org/event/monthly-general-membership-meeting-5/
LOCATION:Mountain State Brewing Company\, 740 Genesis Blvd.\, Bridgeport\, 26330
END:VEVENT
BEGIN:VEVENT
DTSTART;VALUE=DATE:20220408
DTEND;VALUE=DATE:20220410
DTSTAMP:20260419T124133
CREATED:20220323T170324Z
LAST-MODIFIED:20220323T170324Z
UID:10000023-1649376000-1649548799@www.ncwvhba.org
SUMMARY:HBAWV State Spring Virtual Board Meeting
DESCRIPTION:Via Zoom
URL:https://www.ncwvhba.org/event/hbawv-state-spring-virtual-board-meeting/
LOCATION:WV
END:VEVENT
BEGIN:VEVENT
DTSTART;VALUE=DATE:20220107
DTEND;VALUE=DATE:20220109
DTSTAMP:20260419T124133
CREATED:20210915T153254Z
LAST-MODIFIED:20210915T153254Z
UID:10000019-1641513600-1641686399@www.ncwvhba.org
SUMMARY:HBAWV State Winter Board Meeting
DESCRIPTION:Charleston Marriott Town Center\, Charleston\, WV
URL:https://www.ncwvhba.org/event/hbawv-state-winter-board-meeting-2/
LOCATION:Charleston Marriott Town Center\, 200 Lee St E\, Charleston\, 25301
END:VEVENT
BEGIN:VEVENT
DTSTART;TZID=America/New_York:20211206T130000
DTEND;TZID=America/New_York:20211206T170000
DTSTAMP:20260419T124133
CREATED:20211119T163734Z
LAST-MODIFIED:20211119T163734Z
UID:10000021-1638795600-1638810000@www.ncwvhba.org
SUMMARY:2021 Christmas Toy Fund Shopping Day
DESCRIPTION:Please feel free to join the elves of the North Central WV Home Builders Association to help shop for our annual toy drive! Wear your Santa hats\, elf ears\, reindeer antlers or Bells!!! The more the Merrier! Just meet us at the store – look for the people in NCWVHBA shirts!
URL:https://www.ncwvhba.org/event/2021-christmas-toy-fund-shopping-day/
LOCATION:Walmart\, Clarksburg\, 550 Emily Dr\, Clarksburg\, WV\, 26301\, United States
END:VEVENT
BEGIN:VEVENT
DTSTART;TZID=America/New_York:20211204T180000
DTEND;TZID=America/New_York:20211204T233000
DTSTAMP:20260419T124133
CREATED:20211119T163354Z
LAST-MODIFIED:20211119T163354Z
UID:10000020-1638640800-1638660600@www.ncwvhba.org
SUMMARY:2021 NCWVHBA Annual Christmas Party
DESCRIPTION:Click HERE for INFO
URL:https://www.ncwvhba.org/event/2021-ncwvhba-annual-christmas-party/
LOCATION:Erickson Alumni Center\, 1 Alumni Dr\, Morgantown\, WV\, 26506\, United States
END:VEVENT
BEGIN:VEVENT
DTSTART;TZID=America/New_York:20211118T180000
DTEND;TZID=America/New_York:20211118T210000
DTSTAMP:20260419T124133
CREATED:20201106T185741Z
LAST-MODIFIED:20211019T132408Z
UID:10000011-1637258400-1637269200@www.ncwvhba.org
SUMMARY:General Membership Meeting
DESCRIPTION:Join us for our annual elections!!
URL:https://www.ncwvhba.org/event/general-membership-meeting-2/
LOCATION:Via Veneto\, Bridgeport\, WV\, 2036 Anmoore Rd\, Bridgeport\, WV\, 26330\, United States
END:VEVENT
BEGIN:VEVENT
DTSTART;VALUE=DATE:20211104
DTEND;VALUE=DATE:20211107
DTSTAMP:20260419T124133
CREATED:20210915T152740Z
LAST-MODIFIED:20210915T152740Z
UID:10000018-1635984000-1636243199@www.ncwvhba.org
SUMMARY:HBAWV State Annual Convention
DESCRIPTION:Clarion Inn\, Harpers Ferry\, WV
URL:https://www.ncwvhba.org/event/hbawv-state-annual-convention/
LOCATION:Clarion Inn\, Harpers Ferry\, WV\, 4328 William L Wilson Fwy\, Harpers Ferry\, WV\, 25425\, United States
END:VEVENT
BEGIN:VEVENT
DTSTART;TZID=America/New_York:20211021T180000
DTEND;TZID=America/New_York:20211021T210000
DTSTAMP:20260419T124133
CREATED:20210915T152208Z
LAST-MODIFIED:20211019T132103Z
UID:10000017-1634839200-1634850000@www.ncwvhba.org
SUMMARY:Monthly General Membership Meeting
DESCRIPTION:
URL:https://www.ncwvhba.org/event/monthly-general-membership-meeting-4/
LOCATION:Sabraton Station\, 1632 Deckers Creek Blvd\, Morgantown\, WV\, 26505\, United States
END:VEVENT
BEGIN:VEVENT
DTSTART;TZID=America/New_York:20210723T120000
DTEND;TZID=America/New_York:20210723T130000
DTSTAMP:20260419T124133
CREATED:20210603T143430Z
LAST-MODIFIED:20210603T143430Z
UID:10000016-1627041600-1627045200@www.ncwvhba.org
SUMMARY:Member Safety Training
DESCRIPTION:Safety Training \nLocation: Canaan Valley Resort and Conference Center \nDate: July 23\, 2021 \nTime: 12:00 – 1:00 \nSponsored by the HBAWV Safety Committee and Encova Insurance. The event is free to all HBA members. \nSafety training – registration is OPEN contact your local EO for registration information.
URL:https://www.ncwvhba.org/event/member-safety-training/
LOCATION:Canaan Valley Resort & Conference Center in Davis\, WV\, 230 Main Lodge Rd\, Davis\, WV\, 26260\, United States
END:VEVENT
BEGIN:VEVENT
DTSTART;VALUE=DATE:20210722
DTEND;VALUE=DATE:20210725
DTSTAMP:20260419T124133
CREATED:20201020T143525Z
LAST-MODIFIED:20210330T184732Z
UID:10000010-1626912000-1627171199@www.ncwvhba.org
SUMMARY:HBAWV State Summer Board Meeting
DESCRIPTION:Canaan Valley Resort & Conference Center in Davis\, WV
URL:https://www.ncwvhba.org/event/hbawv-state-summer-board-meeting/
LOCATION:Canaan Valley Resort & Conference Center in Davis\, WV\, 230 Main Lodge Rd\, Davis\, WV\, 26260\, United States
END:VEVENT
BEGIN:VEVENT
DTSTART;TZID=America/New_York:20210617T180000
DTEND;TZID=America/New_York:20210617T210000
DTSTAMP:20260419T124133
CREATED:20210427T173221Z
LAST-MODIFIED:20210602T143813Z
UID:10000015-1623952800-1623963600@www.ncwvhba.org
SUMMARY:Monthly General Membership Meeting
DESCRIPTION:
URL:https://www.ncwvhba.org/event/monthly-general-membership-meeting-3/
LOCATION:Copper House Gill\, 1155 Airport Road\, Pleasant Valley\, 26554
END:VEVENT
BEGIN:VEVENT
DTSTART;VALUE=DATE:20210423
DTEND;VALUE=DATE:20210426
DTSTAMP:20260419T124133
CREATED:20201020T143352Z
LAST-MODIFIED:20210202T134255Z
UID:10000008-1619136000-1619395199@www.ncwvhba.org
SUMMARY:NCWVHBA Annual Home Show
DESCRIPTION:NCWVHBA Annual Home Show will be 23-25 April 2021 – see Home Show page for detailed information
URL:https://www.ncwvhba.org/event/ncwvhba-annual-home-show/
LOCATION:Ruby Community Center at Mylan Park\, 111 Mylan Park Ln\, Morgantown\, WV\, 26501\, United States
END:VEVENT
BEGIN:VEVENT
DTSTART;VALUE=DATE:20210416
DTEND;VALUE=DATE:20210418
DTSTAMP:20260419T124133
CREATED:20201020T143437Z
LAST-MODIFIED:20210330T184626Z
UID:10000009-1618531200-1618703999@www.ncwvhba.org
SUMMARY:HBAWV State Spring Board Meeting
DESCRIPTION:Virtual and in-person\, Charleston\, WV
URL:https://www.ncwvhba.org/event/hbawv-state-spring-board-meeting/
LOCATION:WV
END:VEVENT
BEGIN:VEVENT
DTSTART;TZID=America/New_York:20210408T120000
DTEND;TZID=America/New_York:20210408T130000
DTSTAMP:20260419T124133
CREATED:20210330T185125Z
LAST-MODIFIED:20210330T185125Z
UID:10000014-1617883200-1617886800@www.ncwvhba.org
SUMMARY:2021 Membership Drive Training
DESCRIPTION:Looking for High-speed NCWVHBA members to be a part of HBAWV’s Spring/Fall membership drives! Any member interested\, please contact us at ncwvhba@gmail.com
URL:https://www.ncwvhba.org/event/2021-membership-drive-training/
LOCATION:WV
END:VEVENT
BEGIN:VEVENT
DTSTART;VALUE=DATE:20210218
DTEND;VALUE=DATE:20210221
DTSTAMP:20260419T124133
CREATED:20201020T143253Z
LAST-MODIFIED:20210115T190144Z
UID:10000007-1613606400-1613865599@www.ncwvhba.org
SUMMARY:HBAWV State Winter Board Meeting
DESCRIPTION:
URL:https://www.ncwvhba.org/event/hbawv-state-winter-board-meeting/
LOCATION:Virtual
END:VEVENT
BEGIN:VEVENT
DTSTART;TZID=America/New_York:20210217T180000
DTEND;TZID=America/New_York:20210217T203000
DTSTAMP:20260419T124133
CREATED:20210115T191523Z
LAST-MODIFIED:20210115T191523Z
UID:10000013-1613584800-1613593800@www.ncwvhba.org
SUMMARY:Monthly General Membership Meeting
DESCRIPTION:
URL:https://www.ncwvhba.org/event/monthly-general-membership-meeting-2/
LOCATION:Brickside Grille\, Fairmont Field Club\, 1709 Country Club Road\, Fairmont\, WV\, 26554\, United States
END:VEVENT
BEGIN:VEVENT
DTSTART;TZID=America/New_York:20210121T180000
DTEND;TZID=America/New_York:20210121T203000
DTSTAMP:20260419T124133
CREATED:20210115T190659Z
LAST-MODIFIED:20210115T190659Z
UID:10000012-1611252000-1611261000@www.ncwvhba.org
SUMMARY:Monthly General Membership Meeting
DESCRIPTION:
URL:https://www.ncwvhba.org/event/monthly-general-membership-meeting/
LOCATION:Tavern at The Pines\, 3062 Point Marion Rd\, Morgantown\, WV\, 26505\, United States
END:VEVENT
BEGIN:VEVENT
DTSTART;VALUE=DATE:20201201
DTEND;VALUE=DATE:20201202
DTSTAMP:20260419T124133
CREATED:20201020T141939Z
LAST-MODIFIED:20201020T141939Z
UID:10000006-1606780800-1606867199@www.ncwvhba.org
SUMMARY:Holiday Home Safety Month
DESCRIPTION:
URL:https://www.ncwvhba.org/event/holiday-home-safety-month/
LOCATION:WV
END:VEVENT
BEGIN:VEVENT
DTSTART;VALUE=DATE:20201101
DTEND;VALUE=DATE:20201102
DTSTAMP:20260419T124133
CREATED:20201020T141928Z
LAST-MODIFIED:20201020T141928Z
UID:10000005-1604188800-1604275199@www.ncwvhba.org
SUMMARY:Spike Appreciation Month
DESCRIPTION:
URL:https://www.ncwvhba.org/event/spike-appreciation-month/
LOCATION:WV
END:VEVENT
BEGIN:VEVENT
DTSTART;TZID=America/New_York:20201022T180000
DTEND;TZID=America/New_York:20201022T180000
DTSTAMP:20260419T124133
CREATED:20201020T141612Z
LAST-MODIFIED:20201020T141612Z
UID:10000004-1603389600-1603389600@www.ncwvhba.org
SUMMARY:General Membership Meeting
DESCRIPTION:6:00 PM SOCIAL\n7:00 PM DINNER \nContact us for COVID requirements\, cost and details.
URL:https://www.ncwvhba.org/event/general-membership-meeting/
LOCATION:Tavern at The Pines\, 3062 Point Marion Rd\, Morgantown\, WV\, 26505\, United States
END:VEVENT
END:VCALENDAR