BEGIN:VCALENDAR
VERSION:2.0
PRODID:-//North Central West Virginia Home Builders Association - ECPv6.15.20//NONSGML v1.0//EN
CALSCALE:GREGORIAN
METHOD:PUBLISH
X-ORIGINAL-URL:https://www.ncwvhba.org
X-WR-CALDESC:Events for North Central West Virginia Home Builders Association
REFRESH-INTERVAL;VALUE=DURATION:PT1H
X-Robots-Tag:noindex
X-PUBLISHED-TTL:PT1H
BEGIN:VTIMEZONE
TZID:America/New_York
BEGIN:DAYLIGHT
TZOFFSETFROM:-0500
TZOFFSETTO:-0400
TZNAME:EDT
DTSTART:20240310T070000
END:DAYLIGHT
BEGIN:STANDARD
TZOFFSETFROM:-0400
TZOFFSETTO:-0500
TZNAME:EST
DTSTART:20241103T060000
END:STANDARD
BEGIN:DAYLIGHT
TZOFFSETFROM:-0500
TZOFFSETTO:-0400
TZNAME:EDT
DTSTART:20250309T070000
END:DAYLIGHT
BEGIN:STANDARD
TZOFFSETFROM:-0400
TZOFFSETTO:-0500
TZNAME:EST
DTSTART:20251102T060000
END:STANDARD
BEGIN:DAYLIGHT
TZOFFSETFROM:-0500
TZOFFSETTO:-0400
TZNAME:EDT
DTSTART:20260308T070000
END:DAYLIGHT
BEGIN:STANDARD
TZOFFSETFROM:-0400
TZOFFSETTO:-0500
TZNAME:EST
DTSTART:20261101T060000
END:STANDARD
BEGIN:DAYLIGHT
TZOFFSETFROM:-0500
TZOFFSETTO:-0400
TZNAME:EDT
DTSTART:20270314T070000
END:DAYLIGHT
BEGIN:STANDARD
TZOFFSETFROM:-0400
TZOFFSETTO:-0500
TZNAME:EST
DTSTART:20271107T060000
END:STANDARD
END:VTIMEZONE
BEGIN:VEVENT
DTSTART;TZID=America/New_York:20250605T183000
DTEND;TZID=America/New_York:20250605T203000
DTSTAMP:20260419T220943
CREATED:20250508T174915Z
LAST-MODIFIED:20250604T183425Z
UID:10000067-1749148200-1749155400@www.ncwvhba.org
SUMMARY:Board of Directors Meeting
DESCRIPTION:June BOD meeting
URL:https://www.ncwvhba.org/event/board-of-directors-meeting-4/
LOCATION:NCWVHBA\, 2050 City View Drive\, Morgantown\, WV\, 26501\, United States
END:VEVENT
BEGIN:VEVENT
DTSTART;VALUE=DATE:20250610
DTEND;VALUE=DATE:20250614
DTSTAMP:20260419T220943
CREATED:20250508T175755Z
LAST-MODIFIED:20250508T175756Z
UID:10000068-1749513600-1749859199@www.ncwvhba.org
SUMMARY:NAHB Spring Leadership Meeting
DESCRIPTION:
URL:https://www.ncwvhba.org/event/nahb-spring-leadership-meeting/
LOCATION:Henley Park Hotel\, 926 Massachusetts Ave NW\, Washington DC\, 20001\, United States
END:VEVENT
BEGIN:VEVENT
DTSTART;VALUE=DATE:20250611
DTEND;VALUE=DATE:20250612
DTSTAMP:20260419T220943
CREATED:20250508T175939Z
LAST-MODIFIED:20250508T175939Z
UID:10000069-1749600000-1749686399@www.ncwvhba.org
SUMMARY:2025 NAHB Legislative Conference
DESCRIPTION:
URL:https://www.ncwvhba.org/event/2025-nahb-legislative-conference/
LOCATION:US Capital\, Washington DC
END:VEVENT
BEGIN:VEVENT
DTSTART;TZID=America/New_York:20250617T070000
DTEND;TZID=America/New_York:20250617T083000
DTSTAMP:20260419T220943
CREATED:20250604T183055Z
LAST-MODIFIED:20250604T183055Z
UID:10000071-1750143600-1750149000@www.ncwvhba.org
SUMMARY:Caffeinate & Regulate: Unpacking IECC Code Changes for Builders(2009 vs. 2015)
DESCRIPTION:RSVP to info@ncwvhba.org
URL:https://www.ncwvhba.org/event/caffeinate-regulate-unpacking-iecc/
LOCATION:NCWVHBA\, 2050 City View Drive\, Morgantown\, WV\, 26501\, United States
END:VEVENT
BEGIN:VEVENT
DTSTART;TZID=America/New_York:20250626T173000
DTEND;TZID=America/New_York:20250626T203000
DTSTAMP:20260419T220943
CREATED:20250508T180148Z
LAST-MODIFIED:20250508T182444Z
UID:10000070-1750959000-1750969800@www.ncwvhba.org
SUMMARY:Monthly General Membership Event - June 2025
DESCRIPTION:  \n** SPECIAL DATE** \nStay tuned for Program Detail
URL:https://www.ncwvhba.org/event/monthly-general-membership-event-june-2025/
LOCATION:SRS Building Products
END:VEVENT
BEGIN:VEVENT
DTSTART;TZID=America/New_York:20250821T173000
DTEND;TZID=America/New_York:20250821T200000
DTSTAMP:20260419T220943
CREATED:20250728T184816Z
LAST-MODIFIED:20250728T184817Z
UID:10000072-1755797400-1755806400@www.ncwvhba.org
SUMMARY:Monthly General Membership Event - August 2025
DESCRIPTION:
URL:https://www.ncwvhba.org/event/monthly-general-membership-event-august-2025/
END:VEVENT
BEGIN:VEVENT
DTSTART;TZID=America/New_York:20251016T173000
DTEND;TZID=America/New_York:20251016T200000
DTSTAMP:20260419T220943
CREATED:20251008T230012Z
LAST-MODIFIED:20251008T230013Z
UID:10000074-1760635800-1760644800@www.ncwvhba.org
SUMMARY:Monthly General Membership Event - October2025
DESCRIPTION:
URL:https://www.ncwvhba.org/event/monthly-general-membership-event-october2025/
LOCATION:Mario’s Fishbowl\, 3117 University Ave\, Morgantown
END:VEVENT
BEGIN:VEVENT
DTSTART;VALUE=DATE:20251024
DTEND;VALUE=DATE:20251026
DTSTAMP:20260419T220943
CREATED:20251008T230239Z
LAST-MODIFIED:20251008T230239Z
UID:10000075-1761264000-1761436799@www.ncwvhba.org
SUMMARY:HBAWV Annual Convention
DESCRIPTION:
URL:https://www.ncwvhba.org/event/hbawv-annual-convention/
LOCATION:Oglebay Park Resort
ORGANIZER;CN="HBAWV":MAILTO:rskeen@hbawv.org
END:VEVENT
BEGIN:VEVENT
DTSTART;TZID=America/New_York:20251206T180000
DTEND;TZID=America/New_York:20251206T210000
DTSTAMP:20260419T220943
CREATED:20250728T185021Z
LAST-MODIFIED:20250728T185021Z
UID:10000073-1765044000-1765054800@www.ncwvhba.org
SUMMARY:2025 Member Christmas Party
DESCRIPTION:
URL:https://www.ncwvhba.org/event/2025-member-christmas-party/
END:VEVENT
BEGIN:VEVENT
DTSTART;TZID=America/New_York:20260108T183000
DTEND;TZID=America/New_York:20260108T203000
DTSTAMP:20260419T220943
CREATED:20251222T133453Z
LAST-MODIFIED:20251222T133453Z
UID:10000076-1767897000-1767904200@www.ncwvhba.org
SUMMARY:Board of Directors Meeting
DESCRIPTION:January BOD meeting
URL:https://www.ncwvhba.org/event/board-of-directors-meeting-5/
LOCATION:NCWVHBA\, 2050 City View Drive\, Morgantown\, WV\, 26501\, United States
END:VEVENT
BEGIN:VEVENT
DTSTART;TZID=America/New_York:20260115T173000
DTEND;TZID=America/New_York:20260115T200000
DTSTAMP:20260419T220943
CREATED:20251222T133603Z
LAST-MODIFIED:20251222T133603Z
UID:10000077-1768498200-1768507200@www.ncwvhba.org
SUMMARY:Monthly General Membership Event - January 2026
DESCRIPTION:Location/Program TBD \n 
URL:https://www.ncwvhba.org/event/monthly-general-membership-event-january-2026/
END:VEVENT
BEGIN:VEVENT
DTSTART;VALUE=DATE:20260121
DTEND;VALUE=DATE:20260122
DTSTAMP:20260419T220943
CREATED:20251222T133712Z
LAST-MODIFIED:20251222T134320Z
UID:10000078-1768953600-1769039999@www.ncwvhba.org
SUMMARY:HBAWV Winter Board Meeting (Virtual)
DESCRIPTION:
URL:https://www.ncwvhba.org/event/hbawv-winter-board-meeting-virtual/
ORGANIZER;CN="HBAWV":MAILTO:rskeen@hbawv.org
END:VEVENT
BEGIN:VEVENT
DTSTART;TZID=America/New_York:20260127T070000
DTEND;TZID=America/New_York:20260127T083000
DTSTAMP:20260419T220943
CREATED:20260123T165025Z
LAST-MODIFIED:20260123T165025Z
UID:10000085-1769497200-1769502600@www.ncwvhba.org
SUMMARY:Caffeinate & Activate: Discovering you NAHB online portal
DESCRIPTION:For HBA Members\, RSVP to info@ncwvhba.org
URL:https://www.ncwvhba.org/event/caffeinate-activate-discovering-you-nahb-online-portal-2/
LOCATION:NCWVHBA\, 2050 City View Drive\, Morgantown\, WV\, 26501\, United States
END:VEVENT
BEGIN:VEVENT
DTSTART;TZID=America/New_York:20260205T183000
DTEND;TZID=America/New_York:20260205T203000
DTSTAMP:20260419T220943
CREATED:20251222T133753Z
LAST-MODIFIED:20251222T133753Z
UID:10000079-1770316200-1770323400@www.ncwvhba.org
SUMMARY:Board of Directors Meeting
DESCRIPTION:February BOD meeting
URL:https://www.ncwvhba.org/event/board-of-directors-meeting-6/
LOCATION:NCWVHBA\, 2050 City View Drive\, Morgantown\, WV\, 26501\, United States
END:VEVENT
BEGIN:VEVENT
DTSTART;TZID=America/New_York:20260205T183000
DTEND;TZID=America/New_York:20260205T203000
DTSTAMP:20260419T220943
CREATED:20260123T165129Z
LAST-MODIFIED:20260123T165129Z
UID:10000086-1770316200-1770323400@www.ncwvhba.org
SUMMARY:Board of Directors Meeting
DESCRIPTION:February BOD meeting
URL:https://www.ncwvhba.org/event/board-of-directors-meeting-7/
LOCATION:NCWVHBA\, 2050 City View Drive\, Morgantown\, WV\, 26501\, United States
END:VEVENT
BEGIN:VEVENT
DTSTART;VALUE=DATE:20260217
DTEND;VALUE=DATE:20260220
DTSTAMP:20260419T220943
CREATED:20251222T140121Z
LAST-MODIFIED:20251222T140121Z
UID:10000084-1771286400-1771545599@www.ncwvhba.org
SUMMARY:2026 NAHB IBS
DESCRIPTION:https://www.buildersshow.com/
URL:https://www.ncwvhba.org/event/2026-nahb-ibs/
END:VEVENT
BEGIN:VEVENT
DTSTART;TZID=America/New_York:20260226T173000
DTEND;TZID=America/New_York:20260226T200000
DTSTAMP:20260419T220943
CREATED:20251222T133826Z
LAST-MODIFIED:20260123T164912Z
UID:10000080-1772127000-1772136000@www.ncwvhba.org
SUMMARY:Monthly General Membership Event - February 2026
DESCRIPTION: 
URL:https://www.ncwvhba.org/event/monthly-general-membership-event-february-2026/
LOCATION:First Exchange Bank\, 1000 Mid Atlantic Drive\, Morgantown\, WV\, United States
END:VEVENT
BEGIN:VEVENT
DTSTART;VALUE=DATE:20260327
DTEND;VALUE=DATE:20260330
DTSTAMP:20260419T220943
CREATED:20251222T134115Z
LAST-MODIFIED:20251222T134115Z
UID:10000081-1774569600-1774828799@www.ncwvhba.org
SUMMARY:48th Annual Morgantown Home Show
DESCRIPTION:
URL:https://www.ncwvhba.org/event/48th-annual-morgantown-home-show/
LOCATION:Mylan
END:VEVENT
BEGIN:VEVENT
DTSTART;TZID=America/New_York:20260421T173000
DTEND;TZID=America/New_York:20260421T200000
DTSTAMP:20260419T220943
CREATED:20260319T201719Z
LAST-MODIFIED:20260319T201719Z
UID:10000087-1776792600-1776801600@www.ncwvhba.org
SUMMARY:Monthly General Membership Event - April 2026
DESCRIPTION: 
URL:https://www.ncwvhba.org/event/monthly-general-membership-event-april-2026/
LOCATION:Outdoor Desings\, LLC\, 698 Middletown Road\, White Hall\, United States
END:VEVENT
BEGIN:VEVENT
DTSTART;VALUE=DATE:20260424
DTEND;VALUE=DATE:20260426
DTSTAMP:20260419T220943
CREATED:20251222T134250Z
LAST-MODIFIED:20251222T134250Z
UID:10000082-1776988800-1777161599@www.ncwvhba.org
SUMMARY:HBAWV Spring Meeting
DESCRIPTION:
URL:https://www.ncwvhba.org/event/hbawv-spring-meeting/
LOCATION:Cedar Lakes\, Ripley\, WV
ORGANIZER;CN="HBAWV":MAILTO:rskeen@hbawv.org
END:VEVENT
BEGIN:VEVENT
DTSTART;VALUE=DATE:20260501
DTEND;VALUE=DATE:20260502
DTSTAMP:20260419T220943
CREATED:20251222T134512Z
LAST-MODIFIED:20260406T163036Z
UID:10000083-1777593600-1777679999@www.ncwvhba.org
SUMMARY:Putts for Patients Golf Tournament
DESCRIPTION:More Information: charitygolftoday.com/event
URL:https://www.ncwvhba.org/event/putts-for-patients-golf-tournament/
LOCATION:Lakeview Golf Resort
END:VEVENT
END:VCALENDAR